BEGIN:VCALENDAR
VERSION:2.0
PRODID:-//WSV-Bürserberg - ECPv6.15.20//NONSGML v1.0//EN
CALSCALE:GREGORIAN
METHOD:PUBLISH
X-WR-CALNAME:WSV-Bürserberg
X-ORIGINAL-URL:https://wsv-buerserberg.at
X-WR-CALDESC:Veranstaltungen für WSV-Bürserberg
REFRESH-INTERVAL;VALUE=DURATION:PT1H
X-Robots-Tag:noindex
X-PUBLISHED-TTL:PT1H
BEGIN:VTIMEZONE
TZID:Europe/Vienna
BEGIN:DAYLIGHT
TZOFFSETFROM:+0100
TZOFFSETTO:+0200
TZNAME:CEST
DTSTART:20240331T010000
END:DAYLIGHT
BEGIN:STANDARD
TZOFFSETFROM:+0200
TZOFFSETTO:+0100
TZNAME:CET
DTSTART:20241027T010000
END:STANDARD
BEGIN:DAYLIGHT
TZOFFSETFROM:+0100
TZOFFSETTO:+0200
TZNAME:CEST
DTSTART:20250330T010000
END:DAYLIGHT
BEGIN:STANDARD
TZOFFSETFROM:+0200
TZOFFSETTO:+0100
TZNAME:CET
DTSTART:20251026T010000
END:STANDARD
BEGIN:DAYLIGHT
TZOFFSETFROM:+0100
TZOFFSETTO:+0200
TZNAME:CEST
DTSTART:20260329T010000
END:DAYLIGHT
BEGIN:STANDARD
TZOFFSETFROM:+0200
TZOFFSETTO:+0100
TZNAME:CET
DTSTART:20261025T010000
END:STANDARD
BEGIN:DAYLIGHT
TZOFFSETFROM:+0100
TZOFFSETTO:+0200
TZNAME:CEST
DTSTART:20270328T010000
END:DAYLIGHT
BEGIN:STANDARD
TZOFFSETFROM:+0200
TZOFFSETTO:+0100
TZNAME:CET
DTSTART:20271031T010000
END:STANDARD
END:VTIMEZONE
BEGIN:VEVENT
DTSTART;TZID=Europe/Vienna:20260425T080000
DTEND;TZID=Europe/Vienna:20260425T120000
DTSTAMP:20260425T165011
CREATED:20260228T061858Z
LAST-MODIFIED:20260326T133436Z
UID:3025-1777104000-1777118400@wsv-buerserberg.at
SUMMARY:Info Flurreinigung / Landschaftsreinigung 2026
DESCRIPTION:Liebe Eltern\, \ngerne informiere ich euch über die anstehende Landschaftsreinigung: \nEs ist wieder soweit – am Samstag\, 26.04.2025 reinigen wir unser schönes Bürserberg!\nUnten stehend findet ihr alle Infos zur Flurreinigung\, an der hoffentlich wieder zahlreiche Bürserbergerinnen und Bürserberger teilnehmen: \n– Anmeldung bitte bei Florian Neyer\, entweder per Mail an florian.neyer@gmail.com oder unter 0664 2364615. Eine rechtzeitige Anmeldung macht es uns leichter\, alle Gruppen auf die verschiedenen Ortsteile zu verteilen.\n– Treffpunkt und Ausgabe von Säcken\, Handschuhen\, Warnwesten und Gutscheine um 9.00 Uhr bei der Volksschule Bürserberg.\n– Jede Helferin und jeder Helfer erhält als Dankeschön einen Gutschein für eine Jause im „Lädele“ in Bürserberg. Die Gutscheine sind bis 10.05.2025 gültig.\n– Bitte stellt die gefüllten Müllsäcke bei der nächstgelegenen Müllstation oder beim Bauhof ab.\n– Fotos: wie auch im letzten Jahr würden wir uns freuen\, wenn ihr Bilder von eurer Sammelaktion schickt – gerne per Mail oder Whatsapp an Florian Neyer\n– Für Jugendliche gibt es wieder bei der Ausgabestelle einen QR-Code zum Scannen\, der euch 400 Punkte von aha plus bringt! \nVorab schon vielen Dank für die Teilnahme und den Einsatz für unsere Umwelt. \nLiebe Grüße\, \nJana Vollstuber
URL:https://wsv-buerserberg.at/event/info-flurreinigung-landschaftsreinigung-2026/
CATEGORIES:Info,Fremdveranstaltung
END:VEVENT
BEGIN:VEVENT
DTSTART;TZID=Europe/Vienna:20260419T100000
DTEND;TZID=Europe/Vienna:20260419T113000
DTSTAMP:20260425T165011
CREATED:20251124T061046Z
LAST-MODIFIED:20251124T061046Z
UID:2906-1776592800-1776598200@wsv-buerserberg.at
SUMMARY:Info: Erstkommunion Brand
DESCRIPTION:Fremdveranstaltung
URL:https://wsv-buerserberg.at/event/info-erstkommunion-brand/
CATEGORIES:Info
END:VEVENT
BEGIN:VEVENT
DTSTART;TZID=Europe/Vienna:20260412T100000
DTEND;TZID=Europe/Vienna:20260412T113000
DTSTAMP:20260425T165011
CREATED:20251124T061046Z
LAST-MODIFIED:20251124T061046Z
UID:2905-1775988000-1775993400@wsv-buerserberg.at
SUMMARY:Info: Erstkommunion Bürserberg (Weißer Sonntag)
DESCRIPTION:Fremdveranstaltung
URL:https://wsv-buerserberg.at/event/info-erstkommunion-buerserberg-weisser-sonntag/
CATEGORIES:Info
END:VEVENT
BEGIN:VEVENT
DTSTART;TZID=Europe/Vienna:20260406T083000
DTEND;TZID=Europe/Vienna:20260406T160000
DTSTAMP:20260425T165011
CREATED:20251124T061046Z
LAST-MODIFIED:20251124T061046Z
UID:2904-1775464200-1775491200@wsv-buerserberg.at
SUMMARY:Berbbahnen Brandnertal Saisionsende 2025 - 2026
DESCRIPTION:Wintersaison: Start 12.12.2025 bis Ende: 06.04.2026 Mehr unter https://www.vorarlberg-alpenregion.at/brandnertal/de/unsere-bergbahnen/bergbahnen-brandnertal/oeffnungszeiten
URL:https://wsv-buerserberg.at/event/berbbahnen-brandnertal-saisionsende-2025-2026/
CATEGORIES:Info
END:VEVENT
BEGIN:VEVENT
DTSTART;TZID=Europe/Vienna:20260321T090000
DTEND;TZID=Europe/Vienna:20260321T200000
DTSTAMP:20260425T165011
CREATED:20260216T193930Z
LAST-MODIFIED:20260216T193930Z
UID:2999-1774083600-1774123200@wsv-buerserberg.at
SUMMARY:Tschengla Snow Tschaem Snow-Downhill
DESCRIPTION:
URL:https://wsv-buerserberg.at/event/tschengla-snow-tschaem-snow-downhill/
CATEGORIES:Veranstaltung,Fremdveranstaltung
END:VEVENT
BEGIN:VEVENT
DTSTART;TZID=Europe/Vienna:20260314T080000
DTEND;TZID=Europe/Vienna:20260314T153000
DTSTAMP:20260425T165011
CREATED:20251124T061046Z
LAST-MODIFIED:20251124T061046Z
UID:2903-1773475200-1773502200@wsv-buerserberg.at
SUMMARY:Vereinsskitag 2026
DESCRIPTION:
URL:https://wsv-buerserberg.at/event/vereinsskitag-2026/
CATEGORIES:Skitag
END:VEVENT
BEGIN:VEVENT
DTSTART;TZID=Europe/Vienna:20260307T193000
DTEND;TZID=Europe/Vienna:20260307T220000
DTSTAMP:20260425T165011
CREATED:20251124T061046Z
LAST-MODIFIED:20260307T112409Z
UID:2902-1772911800-1772920800@wsv-buerserberg.at
SUMMARY:Info: FW Jahreshauptversamlung 2026
DESCRIPTION:Fremdveranstaltung
URL:https://wsv-buerserberg.at/event/info-fw-jahreshauptversamlung-2026/
CATEGORIES:Fremdveranstaltung
END:VEVENT
BEGIN:VEVENT
DTSTART;TZID=Europe/Vienna:20260228T100000
DTEND;TZID=Europe/Vienna:20260228T173000
DTSTAMP:20260425T165011
CREATED:20251124T061042Z
LAST-MODIFIED:20251124T061042Z
UID:2901-1772272800-1772299800@wsv-buerserberg.at
SUMMARY:Vereinsmeisterschaft 2026
DESCRIPTION:
URL:https://wsv-buerserberg.at/event/vereinsmeisterschaft-2026/
CATEGORIES:Rennen
END:VEVENT
BEGIN:VEVENT
DTSTART;TZID=Europe/Vienna:20260221T183000
DTEND;TZID=Europe/Vienna:20260221T213000
DTSTAMP:20260425T165011
CREATED:20251124T061042Z
LAST-MODIFIED:20251124T061042Z
UID:2900-1771698600-1771709400@wsv-buerserberg.at
SUMMARY:Info: Funken Abbrennen 2026
DESCRIPTION:Fremdveranstaltung
URL:https://wsv-buerserberg.at/event/info-funken-abbrennen-2026/
CATEGORIES:Fremdveranstaltung
END:VEVENT
BEGIN:VEVENT
DTSTART;TZID=Europe/Vienna:20260221T090000
DTEND;TZID=Europe/Vienna:20260221T113000
DTSTAMP:20260425T165011
CREATED:20251124T061042Z
LAST-MODIFIED:20251124T061042Z
UID:2899-1771664400-1771673400@wsv-buerserberg.at
SUMMARY:8. Skitraining 2026 - kurz (Funken)
DESCRIPTION:Letzes Training
URL:https://wsv-buerserberg.at/event/8-skitraining-2026-kurz-funken/
CATEGORIES:Skitraining
END:VEVENT
BEGIN:VEVENT
DTSTART;TZID=Europe/Vienna:20260217T140000
DTEND;TZID=Europe/Vienna:20260217T170000
DTSTAMP:20260425T165011
CREATED:20251124T061042Z
LAST-MODIFIED:20251124T061042Z
UID:2898-1771336800-1771347600@wsv-buerserberg.at
SUMMARY:Info: Faschingsumzug Nüziders 2026 (Faschingsdienstag)
DESCRIPTION:Fremdveranstaltung
URL:https://wsv-buerserberg.at/event/info-faschingsumzug-nueziders-2026-faschingsdienstag/
CATEGORIES:Fremdveranstaltung
END:VEVENT
BEGIN:VEVENT
DTSTART;TZID=Europe/Vienna:20260215T140000
DTEND;TZID=Europe/Vienna:20260215T170000
DTSTAMP:20260425T165011
CREATED:20251124T061041Z
LAST-MODIFIED:20251124T061041Z
UID:2897-1771164000-1771174800@wsv-buerserberg.at
SUMMARY:Info: Faschingsumzug Bludenz 2026
DESCRIPTION:Fremdveranstaltung
URL:https://wsv-buerserberg.at/event/info-faschingsumzug-bludenz-2026/
CATEGORIES:Fremdveranstaltung
END:VEVENT
BEGIN:VEVENT
DTSTART;TZID=Europe/Vienna:20260214T133000
DTEND;TZID=Europe/Vienna:20260214T170000
DTSTAMP:20260425T165011
CREATED:20251124T061032Z
LAST-MODIFIED:20260212T102511Z
UID:2896-1771075800-1771088400@wsv-buerserberg.at
SUMMARY:Info: Faschingsumzug Bürs 2026
DESCRIPTION:Fremdveranstaltung
URL:https://wsv-buerserberg.at/event/info-faschingsumzug-buers-2026/
CATEGORIES:Fremdveranstaltung
END:VEVENT
BEGIN:VEVENT
DTSTART;TZID=Europe/Vienna:20260214T090000
DTEND;TZID=Europe/Vienna:20260214T130000
DTSTAMP:20260425T165011
CREATED:20251124T061032Z
LAST-MODIFIED:20251124T061032Z
UID:2895-1771059600-1771074000@wsv-buerserberg.at
SUMMARY:7. Skitraining 2026
DESCRIPTION:
URL:https://wsv-buerserberg.at/event/7-skitraining-2026/
CATEGORIES:Skitraining
END:VEVENT
BEGIN:VEVENT
DTSTART;TZID=Europe/Vienna:20260213T180000
DTEND;TZID=Europe/Vienna:20260213T210000
DTSTAMP:20260425T165011
CREATED:20251124T061032Z
LAST-MODIFIED:20251124T061032Z
UID:2894-1771005600-1771016400@wsv-buerserberg.at
SUMMARY:Info: Faschingsumzug Brand 2026
DESCRIPTION:Fremdveranstaltung
URL:https://wsv-buerserberg.at/event/info-faschingsumzug-brand-2026/
CATEGORIES:Fremdveranstaltung
END:VEVENT
BEGIN:VEVENT
DTSTART;TZID=Europe/Vienna:20260207T140000
DTEND;TZID=Europe/Vienna:20260207T170000
DTSTAMP:20260425T165011
CREATED:20251124T061031Z
LAST-MODIFIED:20251124T061031Z
UID:2893-1770472800-1770483600@wsv-buerserberg.at
SUMMARY:Info: Faschingsumzug Bürserberg 2026
DESCRIPTION:Fremdveranstaltung
URL:https://wsv-buerserberg.at/event/info-faschingsumzug-buerserberg-2026/
CATEGORIES:Fremdveranstaltung
END:VEVENT
BEGIN:VEVENT
DTSTART;TZID=Europe/Vienna:20260207T090000
DTEND;TZID=Europe/Vienna:20260207T113000
DTSTAMP:20260425T165011
CREATED:20251124T061031Z
LAST-MODIFIED:20251124T061031Z
UID:2892-1770454800-1770463800@wsv-buerserberg.at
SUMMARY:6. Skitraining 2026 - kurz (Fasching)
DESCRIPTION:
URL:https://wsv-buerserberg.at/event/6-skitraining-2026-kurz-fasching/
CATEGORIES:Skitraining
END:VEVENT
BEGIN:VEVENT
DTSTART;TZID=Europe/Vienna:20260201T140000
DTEND;TZID=Europe/Vienna:20260201T170000
DTSTAMP:20260425T165011
CREATED:20251124T061027Z
LAST-MODIFIED:20251124T061027Z
UID:2891-1769954400-1769965200@wsv-buerserberg.at
SUMMARY:Info: Faschingsumzug Rungelin 2026
DESCRIPTION:Fremdveranstaltung
URL:https://wsv-buerserberg.at/event/info-faschingsumzug-rungelin-2026/
CATEGORIES:Fremdveranstaltung
END:VEVENT
BEGIN:VEVENT
DTSTART;TZID=Europe/Vienna:20260131T090000
DTEND;TZID=Europe/Vienna:20260131T130000
DTSTAMP:20260425T165011
CREATED:20251124T061027Z
LAST-MODIFIED:20251124T061027Z
UID:2890-1769850000-1769864400@wsv-buerserberg.at
SUMMARY:5. Skitraining 2026
DESCRIPTION:
URL:https://wsv-buerserberg.at/event/5-skitraining-2026/
CATEGORIES:Skitraining
END:VEVENT
BEGIN:VEVENT
DTSTART;TZID=Europe/Vienna:20260124T090000
DTEND;TZID=Europe/Vienna:20260124T130000
DTSTAMP:20260425T165011
CREATED:20251124T061026Z
LAST-MODIFIED:20251124T061026Z
UID:2889-1769245200-1769259600@wsv-buerserberg.at
SUMMARY:4. Skitraining 2026
DESCRIPTION:
URL:https://wsv-buerserberg.at/event/4-skitraining-2026/
CATEGORIES:Skitraining
END:VEVENT
BEGIN:VEVENT
DTSTART;TZID=Europe/Vienna:20260117T090000
DTEND;TZID=Europe/Vienna:20260117T130000
DTSTAMP:20260425T165011
CREATED:20251124T061026Z
LAST-MODIFIED:20251124T061026Z
UID:2888-1768640400-1768654800@wsv-buerserberg.at
SUMMARY:3. Skitraining 2026
DESCRIPTION:
URL:https://wsv-buerserberg.at/event/3-skitraining-2026/
CATEGORIES:Skitraining
END:VEVENT
BEGIN:VEVENT
DTSTART;TZID=Europe/Vienna:20260110T090000
DTEND;TZID=Europe/Vienna:20260110T130000
DTSTAMP:20260425T165011
CREATED:20251124T061026Z
LAST-MODIFIED:20251124T061026Z
UID:2887-1768035600-1768050000@wsv-buerserberg.at
SUMMARY:2. Skitraining 2026
DESCRIPTION:
URL:https://wsv-buerserberg.at/event/2-skitraining-2026/
CATEGORIES:Skitraining
END:VEVENT
BEGIN:VEVENT
DTSTART;TZID=Europe/Vienna:20260106T130000
DTEND;TZID=Europe/Vienna:20260106T203000
DTSTAMP:20260425T165011
CREATED:20251124T061021Z
LAST-MODIFIED:20260104T075936Z
UID:2881-1767704400-1767731400@wsv-buerserberg.at
SUMMARY:Rodelrennen 2025 - 3-König (abgesagt)
DESCRIPTION:
URL:https://wsv-buerserberg.at/event/rodelrennen-2025-3-koenig/
CATEGORIES:Rennen
END:VEVENT
BEGIN:VEVENT
DTSTART;TZID=Europe/Vienna:20260103T090000
DTEND;TZID=Europe/Vienna:20260103T113000
DTSTAMP:20260425T165011
CREATED:20251124T061021Z
LAST-MODIFIED:20260104T080011Z
UID:2880-1767430800-1767439800@wsv-buerserberg.at
SUMMARY:1. Skitraining 2026 - kurz (Vorfahren / Einteilung) - abgesagt
DESCRIPTION:Ertes Training
URL:https://wsv-buerserberg.at/event/1-skitraining-2026-kurz-vorfahren-einteilung/
CATEGORIES:Skitraining
END:VEVENT
BEGIN:VEVENT
DTSTART;TZID=Europe/Vienna:20251212T083000
DTEND;TZID=Europe/Vienna:20251212T160000
DTSTAMP:20260425T165011
CREATED:20251124T061021Z
LAST-MODIFIED:20251124T061022Z
UID:2879-1765528200-1765555200@wsv-buerserberg.at
SUMMARY:Berbbahnen Brandnertal Saisionsstart 2025 - 2026
DESCRIPTION:Wintersaison: Start 12.12.2025 bis Ende: 06.04.2026 Mehr unter https://www.vorarlberg-alpenregion.at/brandnertal/de/unsere-bergbahnen/bergbahnen-brandnertal/oeffnungszeiten
URL:https://wsv-buerserberg.at/event/berbbahnen-brandnertal-saisionsstart-2025-2026/
CATEGORIES:Info
END:VEVENT
BEGIN:VEVENT
DTSTART;TZID=Europe/Vienna:20251207T080000
DTEND;TZID=Europe/Vienna:20251207T160000
DTSTAMP:20260425T165011
CREATED:20251124T061021Z
LAST-MODIFIED:20251124T061022Z
UID:2878-1765094400-1765123200@wsv-buerserberg.at
SUMMARY:Berbbahnen Brandnertal Wochenendbetreib SO 2025*
DESCRIPTION:* Änderungen je nach Schneelage und Wetter möglich. Mehr unter https://www.vorarlberg-alpenregion.at/brandnertal/de/unsere-bergbahnen/bergbahnen-brandnertal/oeffnungszeiten
URL:https://wsv-buerserberg.at/event/berbbahnen-brandnertal-wochenendbetreib-so-2025-2/
CATEGORIES:Info
END:VEVENT
BEGIN:VEVENT
DTSTART;TZID=Europe/Vienna:20251206T080000
DTEND;TZID=Europe/Vienna:20251206T160000
DTSTAMP:20260425T165011
CREATED:20251124T061021Z
LAST-MODIFIED:20251124T061022Z
UID:2877-1765008000-1765036800@wsv-buerserberg.at
SUMMARY:Berbbahnen Brandnertal Wochenendbetreib SA 2025*
DESCRIPTION:* Änderungen je nach Schneelage und Wetter möglich. Mehr unter https://www.vorarlberg-alpenregion.at/brandnertal/de/unsere-bergbahnen/bergbahnen-brandnertal/oeffnungszeiten
URL:https://wsv-buerserberg.at/event/berbbahnen-brandnertal-wochenendbetreib-sa-2025-2/
CATEGORIES:Info
END:VEVENT
BEGIN:VEVENT
DTSTART;TZID=Europe/Vienna:20251205T080000
DTEND;TZID=Europe/Vienna:20251205T160000
DTSTAMP:20260425T165011
CREATED:20251124T061020Z
LAST-MODIFIED:20251124T061020Z
UID:2876-1764921600-1764950400@wsv-buerserberg.at
SUMMARY:Berbbahnen Brandnertal Wochenendbetreib FR 2025*
DESCRIPTION:* Änderungen je nach Schneelage und Wetter möglich. Mehr unter https://www.vorarlberg-alpenregion.at/brandnertal/de/unsere-bergbahnen/bergbahnen-brandnertal/oeffnungszeiten
URL:https://wsv-buerserberg.at/event/berbbahnen-brandnertal-wochenendbetreib-fr-2025/
CATEGORIES:Info
END:VEVENT
BEGIN:VEVENT
DTSTART;TZID=Europe/Vienna:20251130T080000
DTEND;TZID=Europe/Vienna:20251130T160000
DTSTAMP:20260425T165011
CREATED:20251124T061020Z
LAST-MODIFIED:20251124T061020Z
UID:2875-1764489600-1764518400@wsv-buerserberg.at
SUMMARY:Berbbahnen Brandnertal Wochenendbetreib SO 2025*
DESCRIPTION:* Änderungen je nach Schneelage und Wetter möglich. Mehr unter https://www.vorarlberg-alpenregion.at/brandnertal/de/unsere-bergbahnen/bergbahnen-brandnertal/oeffnungszeiten
URL:https://wsv-buerserberg.at/event/berbbahnen-brandnertal-wochenendbetreib-so-2025/
CATEGORIES:Info
END:VEVENT
BEGIN:VEVENT
DTSTART;TZID=Europe/Vienna:20251129T080000
DTEND;TZID=Europe/Vienna:20251129T160000
DTSTAMP:20260425T165011
CREATED:20251124T061020Z
LAST-MODIFIED:20251124T061020Z
UID:2874-1764403200-1764432000@wsv-buerserberg.at
SUMMARY:Berbbahnen Brandnertal Wochenendbetreib SA 2025*
DESCRIPTION:* Änderungen je nach Schneelage und Wetter möglich. Mehr unter https://www.vorarlberg-alpenregion.at/brandnertal/de/unsere-bergbahnen/bergbahnen-brandnertal/oeffnungszeiten
URL:https://wsv-buerserberg.at/event/berbbahnen-brandnertal-wochenendbetreib-sa-2025/
CATEGORIES:Info
END:VEVENT
END:VCALENDAR